BEGIN:VCALENDAR
VERSION:2.0
PRODID:-//Castlecomer Golf - ECPv6.15.20//NONSGML v1.0//EN
CALSCALE:GREGORIAN
METHOD:PUBLISH
X-WR-CALNAME:Castlecomer Golf
X-ORIGINAL-URL:https://castlecomergolf.ie
X-WR-CALDESC:Events for Castlecomer Golf
REFRESH-INTERVAL;VALUE=DURATION:PT1H
X-Robots-Tag:noindex
X-PUBLISHED-TTL:PT1H
BEGIN:VTIMEZONE
TZID:Europe/Dublin
BEGIN:STANDARD
TZOFFSETFROM:+0000
TZOFFSETTO:+0100
TZNAME:IST
DTSTART:20250330T010000
END:STANDARD
BEGIN:DAYLIGHT
TZOFFSETFROM:+0100
TZOFFSETTO:+0000
TZNAME:GMT
DTSTART:20251026T010000
END:DAYLIGHT
BEGIN:STANDARD
TZOFFSETFROM:+0000
TZOFFSETTO:+0100
TZNAME:IST
DTSTART:20260329T010000
END:STANDARD
BEGIN:DAYLIGHT
TZOFFSETFROM:+0100
TZOFFSETTO:+0000
TZNAME:GMT
DTSTART:20261025T010000
END:DAYLIGHT
BEGIN:STANDARD
TZOFFSETFROM:+0000
TZOFFSETTO:+0100
TZNAME:IST
DTSTART:20270328T010000
END:STANDARD
BEGIN:DAYLIGHT
TZOFFSETFROM:+0100
TZOFFSETTO:+0000
TZNAME:GMT
DTSTART:20271031T010000
END:DAYLIGHT
END:VTIMEZONE
BEGIN:VEVENT
DTSTART;TZID=Europe/Dublin:20260930T130000
DTEND;TZID=Europe/Dublin:20261001T183000
DTSTAMP:20260419T135801
CREATED:20260403T154304Z
LAST-MODIFIED:20260403T154304Z
UID:17045-1790773200-1790879400@castlecomergolf.ie
SUMMARY:18h Open Singles Stableford - Men and Women
DESCRIPTION:
URL:https://castlecomergolf.ie/event/18h-open-singles-stableford-men-and-women-26/
LOCATION:Castlecomer Golf Club\, Castlecomer\, Co Kilkenny\, Ireland
CATEGORIES:Open Competition
END:VEVENT
BEGIN:VEVENT
DTSTART;TZID=Europe/Dublin:20261003T070000
DTEND;TZID=Europe/Dublin:20261004T183000
DTSTAMP:20260419T135801
CREATED:20260403T171718Z
LAST-MODIFIED:20260403T171718Z
UID:17088-1791010800-1791138600@castlecomergolf.ie
SUMMARY:Mens 18h Open Singles Stableford
DESCRIPTION:
URL:https://castlecomergolf.ie/event/mens-18h-open-singles-stableford-9/
LOCATION:Castlecomer Golf Club\, Castlecomer\, Co Kilkenny\, Ireland
CATEGORIES:Open Competition
END:VEVENT
BEGIN:VEVENT
DTSTART;TZID=Europe/Dublin:20261007T130000
DTEND;TZID=Europe/Dublin:20261008T183000
DTSTAMP:20260419T135801
CREATED:20260403T154317Z
LAST-MODIFIED:20260403T154317Z
UID:17046-1791378000-1791484200@castlecomergolf.ie
SUMMARY:18h Open Singles Stableford - Men and Women
DESCRIPTION:
URL:https://castlecomergolf.ie/event/18h-open-singles-stableford-men-and-women-27/
LOCATION:Castlecomer Golf Club\, Castlecomer\, Co Kilkenny\, Ireland
CATEGORIES:Open Competition
END:VEVENT
BEGIN:VEVENT
DTSTART;TZID=Europe/Dublin:20261009T070000
DTEND;TZID=Europe/Dublin:20261011T183000
DTSTAMP:20260419T135801
CREATED:20260403T171718Z
LAST-MODIFIED:20260403T171718Z
UID:17089-1791529200-1791743400@castlecomergolf.ie
SUMMARY:Club Fundraising Scramble
DESCRIPTION:
URL:https://castlecomergolf.ie/event/club-fundraising-scramble/
LOCATION:Castlecomer Golf Club\, Castlecomer\, Co Kilkenny\, Ireland
CATEGORIES:Open Competition
END:VEVENT
BEGIN:VEVENT
DTSTART;TZID=Europe/Dublin:20261014T130000
DTEND;TZID=Europe/Dublin:20261015T183000
DTSTAMP:20260419T135801
CREATED:20260403T154318Z
LAST-MODIFIED:20260403T154318Z
UID:17047-1791982800-1792089000@castlecomergolf.ie
SUMMARY:18h Open Singles Stableford - Men and Women
DESCRIPTION:
URL:https://castlecomergolf.ie/event/18h-open-singles-stableford-men-and-women-28/
LOCATION:Castlecomer Golf Club\, Castlecomer\, Co Kilkenny\, Ireland
CATEGORIES:Open Competition
END:VEVENT
BEGIN:VEVENT
DTSTART;TZID=Europe/Dublin:20261017T070000
DTEND;TZID=Europe/Dublin:20261018T183000
DTSTAMP:20260419T135801
CREATED:20260403T171718Z
LAST-MODIFIED:20260403T171718Z
UID:17090-1792220400-1792348200@castlecomergolf.ie
SUMMARY:Mens 18h Open Singles Stableford
DESCRIPTION:
URL:https://castlecomergolf.ie/event/mens-18h-open-singles-stableford-10/
LOCATION:Castlecomer Golf Club\, Castlecomer\, Co Kilkenny\, Ireland
CATEGORIES:Open Competition
END:VEVENT
BEGIN:VEVENT
DTSTART;TZID=Europe/Dublin:20261021T130000
DTEND;TZID=Europe/Dublin:20261022T183000
DTSTAMP:20260419T135801
CREATED:20260403T154318Z
LAST-MODIFIED:20260403T154318Z
UID:17048-1792587600-1792693800@castlecomergolf.ie
SUMMARY:18h Open Singles Stableford - Men and Women
DESCRIPTION:
URL:https://castlecomergolf.ie/event/18h-open-singles-stableford-men-and-women-29/
LOCATION:Castlecomer Golf Club\, Castlecomer\, Co Kilkenny\, Ireland
CATEGORIES:Open Competition
END:VEVENT
BEGIN:VEVENT
DTSTART;TZID=Europe/Dublin:20261024T070000
DTEND;TZID=Europe/Dublin:20261025T183000
DTSTAMP:20260419T135801
CREATED:20260403T171718Z
LAST-MODIFIED:20260403T171718Z
UID:17091-1792825200-1792953000@castlecomergolf.ie
SUMMARY:Mens 18h Open Singles Stableford
DESCRIPTION:
URL:https://castlecomergolf.ie/event/mens-18h-open-singles-stableford-11/
LOCATION:Castlecomer Golf Club\, Castlecomer\, Co Kilkenny\, Ireland
CATEGORIES:Open Competition
END:VEVENT
BEGIN:VEVENT
DTSTART;TZID=Europe/Dublin:20261028T130000
DTEND;TZID=Europe/Dublin:20261029T183000
DTSTAMP:20260419T135801
CREATED:20260403T154318Z
LAST-MODIFIED:20260403T154318Z
UID:17049-1793192400-1793298600@castlecomergolf.ie
SUMMARY:18h Open Singles Stableford - Men and Women
DESCRIPTION:
URL:https://castlecomergolf.ie/event/18h-open-singles-stableford-men-and-women-30/
LOCATION:Castlecomer Golf Club\, Castlecomer\, Co Kilkenny\, Ireland
CATEGORIES:Open Competition
END:VEVENT
BEGIN:VEVENT
DTSTART;TZID=Europe/Dublin:20261031T070000
DTEND;TZID=Europe/Dublin:20261101T183000
DTSTAMP:20260419T135801
CREATED:20260403T171718Z
LAST-MODIFIED:20260403T171718Z
UID:17092-1793430000-1793557800@castlecomergolf.ie
SUMMARY:Mens 18h Open Singles Stableford
DESCRIPTION:
URL:https://castlecomergolf.ie/event/mens-18h-open-singles-stableford-12/
LOCATION:Castlecomer Golf Club\, Castlecomer\, Co Kilkenny\, Ireland
CATEGORIES:Open Competition
END:VEVENT
END:VCALENDAR